BEGIN:VCALENDAR
VERSION:2.0
PRODID:-//Puumala - ECPv6.15.20//NONSGML v1.0//EN
CALSCALE:GREGORIAN
METHOD:PUBLISH
X-WR-CALNAME:Puumala
X-ORIGINAL-URL:https://puumala.fi
X-WR-CALDESC:Tapahtumat Puumala
REFRESH-INTERVAL;VALUE=DURATION:PT1H
X-Robots-Tag:noindex
X-PUBLISHED-TTL:PT1H
BEGIN:VTIMEZONE
TZID:Europe/Helsinki
BEGIN:DAYLIGHT
TZOFFSETFROM:+0200
TZOFFSETTO:+0300
TZNAME:EEST
DTSTART:20240331T010000
END:DAYLIGHT
BEGIN:STANDARD
TZOFFSETFROM:+0300
TZOFFSETTO:+0200
TZNAME:EET
DTSTART:20241027T010000
END:STANDARD
BEGIN:DAYLIGHT
TZOFFSETFROM:+0200
TZOFFSETTO:+0300
TZNAME:EEST
DTSTART:20250330T010000
END:DAYLIGHT
BEGIN:STANDARD
TZOFFSETFROM:+0300
TZOFFSETTO:+0200
TZNAME:EET
DTSTART:20251026T010000
END:STANDARD
BEGIN:DAYLIGHT
TZOFFSETFROM:+0200
TZOFFSETTO:+0300
TZNAME:EEST
DTSTART:20260329T010000
END:DAYLIGHT
BEGIN:STANDARD
TZOFFSETFROM:+0300
TZOFFSETTO:+0200
TZNAME:EET
DTSTART:20261025T010000
END:STANDARD
BEGIN:DAYLIGHT
TZOFFSETFROM:+0200
TZOFFSETTO:+0300
TZNAME:EEST
DTSTART:20270328T010000
END:DAYLIGHT
BEGIN:STANDARD
TZOFFSETFROM:+0300
TZOFFSETTO:+0200
TZNAME:EET
DTSTART:20271031T010000
END:STANDARD
BEGIN:DAYLIGHT
TZOFFSETFROM:+0200
TZOFFSETTO:+0300
TZNAME:EEST
DTSTART:20280326T010000
END:DAYLIGHT
BEGIN:STANDARD
TZOFFSETFROM:+0300
TZOFFSETTO:+0200
TZNAME:EET
DTSTART:20281029T010000
END:STANDARD
END:VTIMEZONE
BEGIN:VEVENT
DTSTART;VALUE=DATE:20251231
DTEND;VALUE=DATE:20270101
DTSTAMP:20260421T190312
CREATED:20210111T112005Z
LAST-MODIFIED:20260421T085011Z
UID:849-1767222000-1798757999@puumala.fi
SUMMARY:Puumalan tapahtumakalenteri 2026
DESCRIPTION:Tekemistä\, näkemistä ja maistelemista – kohteita ja tapahtumia:\nPuumala-puoti avoinna arkisin klo 9-15. Tuliaisia ja matkamuistoja – Puumala-tuotteita\, kirjoja ja kortteja. Karttoja ja esitteitä. Puumalan kunnantalon matkailuinfo\, Keskustie 14.  \nLasiruusun lasipaja ja myyntinäyttely avoinna päivittäin klo 9-17\, Niementie 1. \nLietveden kioski herää vappuna talviunilta\, ja sen kunniaksi vietetään pe 1.5. klo 11 alkaen Isännän lettupäivää\, tarjolla on myös maistuvia vappumunkkeja. Avoinna toukokuussa 1.–3.5. klo 11–17 / 8.–10.5. klo 11–17 / 14.–17.5. klo 11–17 / 22.–23.5. klo 11–17 / 29.5. alkaen päivittäin klo 11–18. \nKino Saimaan kaikki elokuvaesitykset löytyvät täältä! Koulun auditorio\, Kirkkotie 3. \nRavintola Hovi avoinna päivittäin. Lounas arkisin klo 11-15. A la carte. Tervetuloa syömään ja viihtymään! Keskustie 12. Ohjelmassa perjantaisin bingo ja lauantaisin karaoke. www.ravintolahovi.com \nSahanlahti Resort: Ravintola Koskivahti\nVaraa pöytäsi tai tutustu aukioloaikoihin sekä tuleviin tapahtumiin. \nRavintola Pistohiekka ravintola toimii talvikaudella tilausravintolana lokakuusta lähtien. Myös yksityissaunat ovat varattavissa (info@pistohiekka.fi tai 045 7835 4849). www.pistohiekka.fi \nRavintola Niinipuu ruokailut tilauksesta ryhmille. Emännän piirakkapaja tai mustikkakukkopaja (tilauksesta ryhmille). Ylössaarentie 35. Varaukset: www.okkola.fi \nPuumalan Poiju avoinna ti-la klo 11-15. Palkittu runsas lounas! Satamatie 5.  www.puumalanpoiju.fi \nRavintola Virta Härkösentie 4. \nPuumalan Krimskrams kirpputori\, Keskustie 17. \nReko Puumala lähiruokapiiri. Paikallistuotteita suoraan lähituottajilta ennakkotilauksella. Puolukkatorilla kunnantalon edessä\, Keskustie 14. Tilaukset\, tulevat ajankohdat ja lisätiedot fb-ryhmässä. \nSaimas Spinnery kehräämön myymälä avoinna ma-pe klo 8-16 ja la 10-15. Kehräämöelämyskierrokset saatavilla ryhmille. Koskenseläntie 3. saimasspinnery.com \nHanhiniityn Paja. Sepän paja ja töiden myymälä avoinna sovittaessa. Taontakurssit ja näytökset tilauksesta. Ylössaarentie 84. www.hanhiniitty.fi  \nLiehtalanniemen museotilan pihapiiriin ja luontopolkuun voi tutustua itsenäisesti ympäri vuoden (ei talvikunnossapitoa). Ylössaarentie 205. \n\n\n\n\n\nSaimaa Canoeing – melo Saimaa ympäri vuoden! Opastetut retket\, valmiit reitit majoituksella ja omatoimiset melontalomat. Ylössaarentie 84. www.saimaacanoeing.fi \nOpas-Tiinan retket Saimaalla. Lähde liikkumaan luonnon ihmeiden äärelle meloen tai Taiga-retkitilalla majoittuen. www.spiritguidesaimaa.com \nLakeland GTE ohjelmapalvelut Saimaalla ympäri vuoden! Kokeile jääkelluntaa\, lähde sähkölumiskootteriajelulle tai risteile mukavasti ekopaatilla norppia bongaillen. LakelandGTE. Tilauksesta jääkellunta Puumalan satamassa\, Sahanlahdessa tai Okkolassa. Lue lisää ja varaa nyt seurueellesi tai isommalle ryhmälle. \nNestorinrannassa ympäri vuoden varattavissa rantasauna ja poreet\, Lintusalontie 1661 \nPuumalan alueseurakunnan tapahtumakalenterin löydät täältä. \nLasten ja nuorten toiminnot ja tapahtumat Puumalassa löydät kootusti po1ntista. \nAikuisten kaikille avoimet ja maksuttomat liikuntatoiminnat löydät liikuntatoimintaa -sivuilta. \nAvantouintisaunat joka toinen viikko klo 17-20 torstaisin 2.4.\, 16.4. ja vappuaaton sauna 30.4.2026. Veeranranta Niementie 1 C. \n \n\n\n\n\n\nKevään vinkit!\n\n\n\nNauti raittiista ilmasta ja norppasaariston maisemista Norppapolulla.\nVietä rentouttava eväshetki Norppalaavulla ja ihaile luontoa.\nSeuraa vesiliikennettä Saimaan syväväylällä ja tähyile laivoja tai tukkilauttaa.\nKeksi tekemistä Kansalaisopiston kursseista ja luennoilta!\nTunnelmoi lossiajelulla Niinisaareen tai nauti Lietveden maisematien näkymistä.\nSeuraa lasinvalmistusta Lasiruusussa ja tee ostoksia kirkonkylän puodeissa.\nNauti uutuuselokuvista Kino Saimaan esityksissä!\nPistäydy Saimas Spinneryn tehtaanmyymälässä ja hae inspiraatiota käsitöihin.\nNautiskele Puumalan ravintoloissa ja käy kahvilassa.\nLämmittele saunassa! Uskallatko virkistävälle kylmäuinnille?\n\n \nTapahtumakalenteri\n2026\nNorpparetket ekopaatilla\, 24.4. alkaen keväälle ja alkukesälle paljon avoimia takuulähtöjä ti-su viikoittain sekä yksityisristeilyt 6-10 hlö ryhmille \nTilauksesta monipuoliset ohjelmapalvelut ja elämykset juhliin ja ryhmille. Norppakellunta Saimaalla – varaa nyt 3-12 hlö seurueelle tai isommalle 13-30 hlö ryhmälle. Puumalan satamassa\, Sahanlahdessa tai Okkolassa\, Lakeland GTE. \nTilauksesta Opas-Tiinan luontopäivät ja retket Saimaan tarinaan kaikin aistein. \nMaalis-toukokuussa joka la & su Mustikkakukkopaja – avoin ryhmä(1-8 hlö\, varaa ennakkoon)\, ravintola Niinipuu \nMaalis-toukokuussa viikoittain ma-pe Emännän karjalanpiirakkapaja (1-12 hlö\, varaa ennakkoon)\, ravintola Niinipuu \nJoka toinen keskiviikko (1.4. eteenpäin) klo 18-20 Nuorten eräkerho\, voit osallistua koko kevään tai yksittäisille kerroille nuorisotalolla \nHuhtikuu\nKe 22.4. Klo 9.30-12 Kädentaidot\, lapsiperheiden Kohtaamispaikka Kuutti \nKe 22.4. klo 15-18 Seniorisauna (ikärajaton ja maksuton) urheilukentän huoltotiloilla\, Kenttätie 5 \nPe 24.4. klo 13-16 Visit Puumala -päivä\, ilmoittaudu mukaan täältä\, yhtenäiskoulun auditorio \nPe 24.4. klo n. 14:45 Visit Puumala -päivässä MSM ry:n Visit Finland DataHub koulutus yrityksille\, ilmoittaudu täältä\, yhtenäiskoulun auditorio \nPe 24.4. alkaen Norpparetket ekopaatilla\, paljon avoimia takuulähtöjä ti-su viikoittain sekä yksityisristeilyt 6-10 hlö ryhmille \nPe 24.4. klo 21 Bingo\, Ravintola Hovi \nLa 25.4. klo 21 Karaoke\, Ravintola Hovi \nSu 26.4. klo 16. Michael\, Kino Saimaa \nKe 29.4. Klo 14.30-17 Perheliikunta\, lapsiperheiden Kohtaamispaikka Kuutti \nKe 29.4 klo 18 Michael\, Kino Saimaa \nTo 30.4. klo 17-20 Vappuaaton sauna Veeranrannassa\, kaikille avoin (yhteissauna\, uima-asu) ja maksuton\, Niementie 1 C \nToukokuu\nPe 1.5. klo 11 alkaen Lietveden kioski herää vappuna talviunilta\, ja sen kunniaksi vietetään Isännän lettupäivää\, tarjolla on myös maistuvia vappumunkkeja. Avoinna toukokuussa 1.–3.5. klo 11–17 / 8.–10.5. klo 11–17 / 14.–17.5. klo 11–17 / 22.–23.5. klo 11–17 / 29.5. alkaen päivittäin klo 11–18. \nPe-La 1.-2.5. klo 12-15 Vappubrunssi Ravintola Koskivahdissa \nPe 1.5. klo 10 Puumalan Puulaakisalibandyturnaus \nPe 1.5. klo 12-16 Norppamelonta Pistohiekalla (tilauksesta muulloinkin)\, Opas-Tiina \nPe 1.5. klo 21 Bingo\, Ravintola Hovi \nLa 2.5. Norppamelonta\, Saimaa Canoeing \nLa 2.5. Metsäsydämen Joogapäivä (myös viikonloppu majoituksella tai yksittäiset tunnit) \nLa 2.5. klo 12-16 Norppamelonta Pistohiekalla (tilauksesta muulloinkin)\, Opas-Tiina \nLa 2.5. klo 12-12:30 Reko-jako – lähiruokaa suoraan tuottajilta ennakkotilauksella\, Puolukkatori (kunnantalon edessä) \nLa 2.5. klo 21 Karaoke\, Ravintola Hovi \nMa 4.5. klo 17 Sauna ja porina Särkirannassa (joka toinen ma) \nPe 8.5. klo 21 Bingo\, Ravintola Hovi \nLa 9.5. Toukotori ylätorilla \nLa 9.5. Norppamelonta\, Saimaa Canoeing \nLa 9.5. klo 10-16 Norppamelonta Pistohiekalla (tilauksesta muulloinkin)\, Opas-Tiina \nLa 9.5.  klo 12-15 Äitienpäivän juhlalounas Ravintola Koskivahdissa \nLa 9.5. klo 21 Karaoke\, Ravintola Hovi \nSu 10.5. klo 10-14 Norppamelonta Pistohiekalla (tilauksesta muulloinkin)\, Opas-Tiina \nSu 10.5. Äitienpäivälounas kattaukset 11-12:30\, 13-14:30 ja 15-16:30 (pöytävaraus)\, Puumalan Poiju \nSu 10.5. klo 12 sekä 14:30 Äitienpäivän juhlalounas Ravintola Koskivahdissa \nSu 10.5 klo 15-16 Äitienpäivän Nocturne Eino Leinon säkein -kirkkokonsertti Puumalan kirkossa \nTo 14.5. Puumalan koiranäyttely 2026\, järj. Puumalan erämiehet ry \nTo 14.5. klo 11-14 Norppamelonta Pistohiekalla (tilauksesta muulloinkin)\, Opas-Tiina \nLa 16.5. Puumalan pihakirppispäivä \nLa 16.5. Norppamelonta\, Saimaa Canoeing \nLa 16.5. klo 10-13 Garderobi eli perinteinen vaatteiden ja kodin tekstiilien maksuton kierrätystapahtuma Puolukkatorilla. Puffetti. Järj. Puumalan kirkonkylän Martat \nLa 16.5. klo 11 ja 14 Venekuljetus norppasaaristoon Sahanlahdesta\, Lakeland GTE \nPe 15.5. klo 21 Bingo\, Ravintola Hovi \nLa 16.5. klo 12-12:30 Reko-jako – lähiruokaa suoraan tuottajilta ennakkotilauksella\, Puolukkatori (kunnantalon edessä) \nLa 16.5. klo 21 Karaoke\, Ravintola Hovi \nMa 18.5. klo 17 Sauna ja porina Särkirannassa (joka toinen ma) \nPe-Su 22.-24.5. Neuleretriitti\, Saimas Spinnery & Okkolan lomamökit \nPe 22.5. klo 21 Bingo\, Ravintola Hovi \nLa 23.5. klo 11 ja 14 Venekuljetus norppasaaristoon Sahanlahdesta\, Lakeland GTE \nLa 23.5. klo 12-16 Norppamelonta Pistohiekalla (tilauksesta muulloinkin)\, Opas-Tiina \nLa 23.5. klo 13-14:30 Metsäsydämen joogatunti Hurissalon kylätalolla \nLa 23.5. klo 18-24 Karaokeilta\, Puumalan Poiju \nLa 23.5. klo 21 Karaoke\, Ravintola Hovi \nSu 24.5. klo 11-14 Norppamelonta Pistohiekalla (tilauksesta muulloinkin)\, Opas-Tiina \nPe 29.5. klo 21 Bingo\, Ravintola Hovi \nLa 30.5. klo 10-16 Norppamelonta Pistohiekalla (tilauksesta muulloinkin)\, Opas-Tiina \nLa 30.5. klo 11 ja 14 Venekuljetus norppasaaristoon Sahanlahdesta\, Lakeland GTE \nLa 30.5. klo 21 Karaoke\, Ravintola Hovi \nKesäkuu\nPäivittäin kesä-elokuussa satamatori avoinna\n \nLa 6.6. klo 9-14 Peräkonttikirppis \nLa 6.6. Metsäsydämen Joogapäivä (myös viikonloppu majoituksella tai yksittäiset tunnit) \nLa 6.6. klo 12 Puumalansalmi puhuu! satamatorilla \nLa 6.6. klo 12-12:30 Reko-jako – lähiruokaa suoraan tuottajilta ennakkotilauksella\, Puolukkatori (kunnantalon edessä) \nTi 9.6. klo 18 Kyläturvallisuusilta\, kunnantalon valtuustosali \nPe 12.6. Suomi meloo saapuu Puumalaan\, klo 13:30-14 satama (luotsiasema)\, klo 15:00 Sahanlahti \nLa 13.6. Veeranmarkkinat satamatorilla \nLa 13.6. klo 18-24 Karaokeilta\, Puumalan Poiju \nLa 13.6. klo 20 Niinijazz\, ravintola Niinipuu (ovet klo 19) \nPe 19.6. klo 12-12:30 Reko-jako – lähiruokaa suoraan tuottajilta ennakkotilauksella\, Puolukkatori (kunnantalon edessä) \nMa-Pe 22.-26.6. Lasten ja nuorten kuvisleiri teemalla ”Hulvattomat hyönteiset” Lintusalon koululla \nPe 26.6. klo 12-18 Päiväkaraoke\, Puumalan Poiju \nLa 27.6. klo 9-14 Peräkonttikirppis \nLa 27.6. klo 10-14 Puffetti Suur-Saimaan Ympäriajossa urheiluhallilla\, Luontoretkeilijät ry \nLa 27.6. klo 18 alkaen Duo Taunus terassilla\, Puumalan Poiju \nSu 28.6. Klo 11-16 Liehtalanniemen museotilalla ilmainen sisäänpääsy Puumala-päivän kunniaksi \nSu 28.6. klo 15 Puumala-päivä: Pähkinäsaari 1323 -rajakarnevaali Maarianvaaran teatteri\, esitys yhtenäiskoulun auditoriossa\, Puumalan kulttuuripalkinnon jako \nMa-Pe 29.6.-3.7. Puumalan jalkapalloleiri \nMa 29.6. klo 18:00-19.30 klo 18-19:30 S/S Wennon perinteiset maanantairisteilyt \nHeinäkuu\nKe 1.7. klo 19 Lähellä-konsertti: Markku Aro Sahanlahden Elämysverstaalla \nPe 3.7. Jalkapallon puulaakiturnaus urheilukentällä jalkapalloleirien 20. juhlavuoden kunniaksi \nLa-La 4.-11.7. Puumalan lasten viikko \nLa 4.7. Metsäsydämen Joogapäivä (myös viikonloppu majoituksella tai yksittäiset tunnit) \nLa 4.7. klo 12-12:30 Reko-jako – lähiruokaa suoraan tuottajilta ennakkotilauksella\, Puolukkatori (kunnantalon edessä) \nMa 6.7. klo 18:00-19.30 klo 18-19:30 S/S Wennon perinteiset maanantairisteilyt \nPe-La 10.-11.7. Rantakekkerit\, Sahanlahti Resort \nPe-Su 10.-12.7. Saimaa Cycle Tour \nLa 11.7. klo 12-14 Letkeä lauantai satamatorilla: Seeli Toivio elokuvamusiikkia sellolla \nLa 11.7. klo 16 Seeli Toivio sellokonsertti Puumalan kirkossa \nLa 11.7. klo 18-22 Anssi Känsälä Duo terassilla\, Puumalan Poiju \nMa 13.7. klo 18:00-19.30 klo 18-19:30 S/S Wennon perinteiset maanantairisteilyt \nKe 15.7. klo 18 Tenori Jyrki Anttila 60v juhlakonsertti – Rakkaudella Italiasta\, Sahanlahti Resort \nPe 17.7. klo 19 lkka Heiskasen Komeljanttari Sahanlahden Elämysverstaalla \nLa 18.7. klo 9-14 Peräkonttikirppis \nLa 18.7. klo 12-12:30 Reko-jako – lähiruokaa suoraan tuottajilta ennakkotilauksella\, Puolukkatori (kunnantalon edessä) \nLa 18.7. klo 14 lkka Heiskasen Komeljanttari Sahanlahden Elämysverstaalla \nSu 19.7. klo 16 Lähellä-konsertti: Diandra Sahanlahden Elämysverstaalla \nMa 20.7. klo 18:00-19.30 klo 18-19:30 S/S Wennon perinteiset maanantairisteilyt \nKe 22.7. klo 19 Lähellä-konsertti Tuure Kilpeläinen Sahanlahden Elämysverstaalla \nTo 23.7. klo 17-20 Kukkivaa mielenrauhaa Tarhaneidon kukkatila \nPe 24.7. klo 19 Sikahauskaa Stand up club Sahanlahden Elämysverstaalla \nLa 25.7. Jaakkomarkkinat satamatorilla ja ylätorilla \nLa 25.7. klo 18-21 Nuottailta Norppalaavulla\, Puumalan Luontoretkeilijät ry \nMa 27.7. klo 18:00-19.30 klo 18-19:30 S/S Wennon perinteiset maanantairisteilyt \nKe 29.7. klo 19 Lähellä-konsertti: Kaseva Sahanlahden Elämysverstaalla \nTo-La 30.7.-1.8. Siltakemmakat \nElokuu\nLa 1.8. Metsäsydämen Joogapäivä (myös viikonloppu majoituksella tai yksittäiset tunnit) \nLa 1.8. klo 12-12:30 Reko-jako – lähiruokaa suoraan tuottajilta ennakkotilauksella\, Puolukkatori (kunnantalon edessä) \nTo 6.8. klo 17-20 Kukkivaa mielenrauhaa Tarhaneidon kukkatila \nLa 8.8. Hayride Jamboree Pistohiekalla \n10.-14.8. FIM Mototour of Nations matkamoottoripyöräilytapahtuma \nLa 15.8. klo 9-14 Peräkonttikirppis \nLa 15.8. klo 12-12:30 Reko-jako – lähiruokaa suoraan tuottajilta ennakkotilauksella\, Puolukkatori (kunnantalon edessä) \nSu 16.8. klo 12-15 Kukkivaa mielenrauhaa Tarhaneidon kukkatila \nPe 21.8. Saimaa Trailrun polkujuoksu & Mini Swimrun yritysviesti \nLa 22.8. Saimaa Swimrun & Mini Swimrun lapsille ja lapsenmielisille \nPe 28.8. klo 19:30-22:30 S/S Wennon perinteinen kuutamoristeily \nSyyskuu\nLa 5.9. klo 10-16 Syystori satamatorilla\, Puumalan yrittäjät \nLa 5.9. klo 12-12:30 Reko-jako – lähiruokaa suoraan tuottajilta ennakkotilauksella\, Puolukkatori (kunnantalon edessä) \nLa 19.9. klo 12-12:30 Reko-jako – lähiruokaa suoraan tuottajilta ennakkotilauksella\, Puolukkatori (kunnantalon edessä) \nLa 26.9. Mikkomarkkinat ylätorilla \nLa 26.9. Metsäsydämen Joogapäivä (myös viikonloppu majoituksella tai yksittäiset tunnit) \nLokakuu\nLa 3.10. F-Cup 2026: 5. Puumala Ralli \nLa 17.10. klo 12-12:30 Reko-jako – lähiruokaa suoraan tuottajilta ennakkotilauksella\, Puolukkatori (kunnantalon edessä) \nPe 30.10. Keyrimarkkinat ylätorilla \nla 31.10. Metsäsydämen Joogapäivä (myös viikonloppu majoituksella tai yksittäiset tunnit) \nLa 31.10. klo 12-12:30 Reko-jako – lähiruokaa suoraan tuottajilta ennakkotilauksella\, Puolukkatori (kunnantalon edessä) \nMarraskuu\nPe 27.11. klo 18-20 Joulunavaus ylätorilla\, Puumalan yrittäjät \nLa 28.11. klo 12-12:30 Reko-jako – lähiruokaa suoraan tuottajilta ennakkotilauksella\, Puolukkatori (kunnantalon edessä) \nJoulukuu\nLa 19.12. klo 12-12:30 Reko-jako – lähiruokaa suoraan tuottajilta ennakkotilauksella\, Puolukkatori (kunnantalon edessä) \nKe 30.12. Metsäsydämen Joogapäivä (myös viikonloppu majoituksella tai yksittäiset tunnit) \n  \nNähdään Puumalassa!\nwww.visitpuumala.fi \n*  Oikeudet muutoksiin pidätetään. Varmistathan tapahtumien lisätiedot suoraan järjestäjiltä. \nHaluatko tapahtumasi mukaan kalenteriin? Ilmoita tapahtuman tiedot: visit@puumala.fi \n\n			\n				\n			\n			\n				\n			\n			\n				\n			\n			\n				\n			\n			\n				\n			\n			\n				\n			\n			\n				\n			\n			\n				\n			\n			\n				\n			\n			\n				\n			\n			\n				\n			\n			\n				\n			\n		\n\n 
URL:https://puumala.fi/tapahtumat/tapahtumakalenteri/
CATEGORIES:Top
ATTACH;FMTTYPE=image/jpeg:https://puumala.fi/wp-content/uploads/satama-2018-Tommi-Ollikainen-2-scaled.jpg
END:VEVENT
BEGIN:VEVENT
DTSTART;VALUE=DATE:20260108
DTEND;VALUE=DATE:20260501
DTSTAMP:20260421T190312
CREATED:20240920T131332Z
LAST-MODIFIED:20260107T111818Z
UID:16726-1767830400-1777593599@puumala.fi
SUMMARY:Avantouintisaunat ja seniorisaunat
DESCRIPTION:Avantouintiharrastus Puumalan sillan maisemissa jatkuu! \nKaikille avoin ja maksuton avantouintisauna Veeranrannassa (Niementie 1 C) joka toinen viikko kello 17-20 torstaisin 31.12. uudenvuodenaaton sauna\, 8.1.\, 22.1.\, 5.2.\, 19.2.\, 5.3.\, 19.3.\, 2.4.\, 16.4. ja vappuaaton sauna 30.4.2026. Sauna on yhteissauna\, käytähän uima-asua. \nAvantouintisaunan lämmityksestä vastaa Puumalan Luontoretkeilijät ry. Luontoretkeilijöiden avantouintivastaavalta (Tapio Hulkkonen 045 6385 803) voi halutessaan lunastaa 10€ panttia vastaan oman avaimen\, jolloin voi käyttää pukutiloja ja suihkuja avantouintiin muulloinkin kuin saunapäivinä. \nSamoin kaikille avoimet ja ilman ala- tai yläikärajaa lämpiävät seniorisaunat urheilukentän huoltotiloilla jatkuvat joka toinen viikko kello 15-18 keskiviikkoisin 14.1.\, 28.1.\, 11.2.\, 25.2.\, 11.3.\, 25.3.\, 8.4. ja 22.4.2026. Huoltotiloilla on erilliset saunat miehille ja naisille. Saunan lämmityksestä vastaa Puumalan kunta. Kenttätie 5\, Puumala. \nMuistathan myös Sampolan uimahalliretket! \nVirkistäviä uintihetkiä ja rentouttavia löylyjä! \nPs. päivitämme alkuvuoden 2026 saunojen ajankohdat joulukuussa. \n \n  \n 
URL:https://puumala.fi/tapahtumat/avantouintisaunat-veeran-rannassa/
CATEGORIES:Top
ATTACH;FMTTYPE=image/jpeg:https://puumala.fi/wp-content/uploads/107C2F59-4976-4E77-B67F-6F534C58A00E-–-kopio-scaled.jpeg
END:VEVENT
BEGIN:VEVENT
DTSTART;VALUE=DATE:20260402
DTEND;VALUE=DATE:20270328
DTSTAMP:20260421T190312
CREATED:20251223T184118Z
LAST-MODIFIED:20260420T150748Z
UID:21504-1775088000-1806191999@puumala.fi
SUMMARY:Puumalan alueseurakunnan tapahtumat
DESCRIPTION:Tutustu Puumalan alueseurakunnan tapahtumatarjontaan! \nMikkelin tuomiokirkkoseurakunnan Puumalan alueseurakunta järjestää ympäri vuoden monipuolisia tapahtumia Puumalan kauniissa puukirkossa\, seurakuntatalolla ja eri kylillä. \nPuumalan alueseurakunnan tapahtumakalenterin eli kaikki tulevat tapahtumat lisätietoineen löydät täältä. \n\nTo 2.4. klo 18 Kiirastorstain iltamessu kirkossa. Keijonen\, K. Ukkonen\, Mariakuoro\nPe 3.4. klo 10 Pitkäperjantain sanajumalanpalvelus kirkossa. Keijonen\, Salla Palokangas\, laulu Paavo Mäkinen\nSu 5.4. klo 10 Pääsiäispäivän messu kirkossa. Keijonen\, K. Ukkonen\, His Voice\nSu 5.4. klo 11.30 Pääsiäisbrunssi seurakuntakodilla nyyttikesti-idealla (merkitse ruokiin sisältö\, ruokia voi tuoda klo 8.30 alk.)\nMa 6.4. klo 10 Messu Lamminniemen kappelissa. Marjut Häkkinen\, Kälviä\nTi 7.4. Klo 9 Yhteisöllinen aamupala seurakuntakodilla\nTi 7.4. klo 10 Leikkivä aamu seurakuntakodilla\nTi 7.4. klo 14 Kansanlähetyksen lähetyspiiri seurakuntakodilla\nSu 12.4. klo 10 Messu kirkossa. Keijonen\, Karjalainen\nSu 12.4. klo 17 Raamattu- ja rukousryhmä srk-kodilla\nMa 13.4. klo 14 Toivoa naisille lähetyspiiri seurakuntakodilla\nMa 13.4. klo 16.30 Gospeljumppa Särkirannassa\, 6e\nTi 14.4. Klo 9 Yhteisöllinen aamupala seurakuntakodilla\nTi 14.4. klo 10 Leikkivä aamu seurakuntakodilla\nTo 16.4. klo 12 Ystäväpirtin kahvio seurakuntakodilla\, vieraana Eija Kahila Mikkelin seudun Omaishoitajat ja Läheiset ry:stä\nTo 16.4. klo 17 His Voicen harjoitus seurakuntakodilla\nPe 17.4. klo 17 Nuorten ilta seurakuntakodilla\nPe 17.4. klo 19 Iltahartaus seurakuntakodilla\nSu 19.4. klo 10 Messu kirkossa. Orenius\, Tirronen\nMa 20.4. klo 17 Sauna ja porina naisille Särkirannassa\nTi 21.4. Klo 9 Yhteisöllinen aamupala seurakuntakodilla\nTi 21.4. klo 10 Leikkivä aamu seurakuntakodilla\nSu 26.4. klo 16 Toivevirsimessu kirkossa. Keijonen\, K. Ukkonen. Messun virret valitaan seurakuntalaisten toiveiden perusteella. Laita toiveesi vaikka viestillä kanttori Kristiina Ukkoselle p. 0400 143 343.\nSu 26.4. klo 17 Raamattu- ja rukousryhmä seurakuntakodilla\nTi 28.4. Klo 9 Yhteisöllinen aamupala seurakuntakodilla\nTi 28.4. klo 10 Leikkivä aamu seurakuntakodilla\nTo 30.4 klo 12–14 Srk-kodilla Ystäväpirtin kahviossa myynnissä simaa omiin astioihin ja munkkeja yv-keräyksen hyväksi\nTo 30.4. klo 17 His Voicen harjoitus seurakuntakodilla\n\n\nKirkko auki hiljentymistä varten ke 1.4. ja to 2.4. klo 16-18\, pe 3.4. ja su 5.4. klo 12-14. Esillä Aila Mäkisen ikoneita. Ikonit esillä koko huhtikuun ajan jumalanpalvelusten yhteydessä.\n\n\nLämpimästi tervetuloa mukaan!
URL:https://puumala.fi/tapahtumat/puumalan-alueseurakunta/
CATEGORIES:Top
ATTACH;FMTTYPE=image/jpeg:https://puumala.fi/wp-content/uploads/Kuva-Mikkelin-tuomioseurakunta.jpg
END:VEVENT
BEGIN:VEVENT
DTSTART;VALUE=DATE:20260424
DTEND;VALUE=DATE:20261031
DTSTAMP:20260421T190312
CREATED:20250912T103119Z
LAST-MODIFIED:20260420T135110Z
UID:20415-1776988800-1793404799@puumala.fi
SUMMARY:Norpparetket ekopaatilla
DESCRIPTION:Lakeland GTE Norpparetket ekopaatilla Saimaalla\nNorpparetki Ekopaatilla Nestori Miikkulaisen kotivesillä Puumalassa on hieno luonto-elämys. Touko-kesäkuussa avoimet lähdöt Puumalan Niinisaaresta. Näille retkille voit varata yksittäisiä paikkoja. Norpan näkeminen on alkukesästä hyvin todennäköistä kun norpat löhöilevät rantakivillä karvanvaihdossa.\nNorpparetket ekopaatilla\, 24.4. alkaen keväälle ja alkukesälle paljon avoimia takuulähtöjä ti-su viikoittain sekä yksityisristeilyt 6-10 hlö ryhmille. Kevään ja alkukesän retket lähtevät Okkolan lomamökkien laiturista\, keskikesällä Puumalan satamasta ja loppukesällä sekä alkusyksystä Sahanlahti Resortin satamasta. \nMukava risteily kaikilla säillä! Hiljaisella sähkökäyttöisellä Ekopaatilla pääset lähelle luontoa paikallisen luonto-oppaan johdolla. \nTarjolla useita lähtöjä viikoittain – katso verkkokaupan kalenterista kaikki lähtöajat. Saatavilla myös yksityiset risteilyt tilauksesta. \n  \nTutustu retkiin ja varaa nyt!\n\nAvoin norpparetki Ekopaatilla Puumalassa alkukesä 24.4.-8.6. (Okkola) https://visitpuumala.johku.com/fi_FI/ajankohtaista-hot-right-now/lakelandgte-avoin-norpparetki-ekopaatilla-puumalassa-alkukesa\nPrivaatti norpparetki Ekopaatilla Okkolasta alkukesä 24.4.-9.6. https://visitpuumala.johku.com/fi_FI/ajankohtaista-hot-right-now/lakelandgte-avoin-norpparetki-ekopaatilla-puumalassa-alkukesa/lakelandgte-privaatti-norpparetki-ekopaatilla-okkolasta-alkukesa\nAvoin norpparetki Ekopaatilla Puumalan satamasta kesä 10.6.-31.7. https://visitpuumala.johku.com/fi_FI/lakelandgte-avoin-norpparetki-ekopaatilla-puumalan-satamasta\nPrivaatti norpparetki Ekopaatilla Puumalan satamasta kesällä (10.6-31.7) https://visitpuumala.johku.com/fi_FI/lakelandgte-privaatti-norpparetki-ekopaatilla-puumalan-satamasta\nAvoin norpparetki Ekopaatilla Puumalassa Sahanlahdesta (syksy 1.8.-30.9.) https://visitpuumala.johku.com/fi_FI/lakelandgte-avoin-norpparetki-ekopaatilla-puumalassa-sahanlahdesta\nPrivaatti norpparetki Sahanlahdesta Ekopaatilla syksy (1.8.-30.10.) https://visitpuumala.johku.com/fi_FI/lakelandgte-privaatti-norpparetki-sahanlahdesta-ekopaatilla-syksy
URL:https://puumala.fi/tapahtumat/norpparetket-ekopaatilla/
CATEGORIES:Top
ATTACH;FMTTYPE=image/jpeg:https://puumala.fi/wp-content/uploads/2025/09/norpparetki_ekopaatilla_saimaannorppa_sealwatching_by_ecoboat_lakelandgte_saimaa_puumala_kuva-by-veijo-liukkonen.jpeg
END:VEVENT
BEGIN:VEVENT
DTSTART;TZID=Europe/Helsinki:20260424T130000
DTEND;TZID=Europe/Helsinki:20260424T160000
DTSTAMP:20260421T190312
CREATED:20241017T071940Z
LAST-MODIFIED:20260416T163450Z
UID:16896-1777035600-1777046400@puumala.fi
SUMMARY:Visit Puumala -päivä
DESCRIPTION:Tervetuloa kevään Visit Puumala -päivään pe 24.4. klo 13-16!\nKutsumme mukaan kuntalaisia\, vapaa-ajan asukkaita\, luottamushenkilöitä\, maanomistajia sekä yrittäjiä ja yhdistyksiä. Visit Puumala -päivässä tehdään tuttavuuksia\, käydään läpi ajankohtaisia teemoja ja luodaan yhdessä katsaus tulevaan. Paikkana on Puumalan yhtenäiskoulun auditorio\, Kirkkotie 3B. Ilmoittaudu mukaan täältä ke 22.4. mennessä. \nKevään 2026 Visit Puumala -päivän ohjelma:\n\n\nKunnanjohtajan ajankohtaiskatsaus\nMatkailun & markkinoinnin kuulumisia\nVuoden 2026 tapahtumakattaus\nPyörämatkailu & Saimaa by Cycle\nElinkeinokehittäjän esittäytyminen\nVisit Mikkeli – MSM ry\nKahvitarjoilu\, keskustelua & verkostoitumista\nKlo n. 14:45 Visit Finland DataHub -koulutus yrityksille\nJärjestämme kevään aikana DataHub-koulutuksia Mikkelin seudun matkailu ry:n jäsenyrityksille. Tilaisuuteen ovat tervetulleita myös jäsenyydestä kiinnostuneet. Koulutuksen tavoitteena on auttaa matkailuyrittäjiä tuomaan tuotteitaan ja palveluitaan DataHubiin ja sitä kautta saada näkyvyyttä myös mm. Visit Mikkelin verkkosivuilla.Koulutuksen sisältö: \n\nKoulutuksen avaus – toimitusjohtaja Teemu Laasanen kertoo lyhyesti MSM ry:n toiminnasta\nDataHubin käyttöesittely – Leena Hagman\nTyöpaja\, jossa autamme jokaista mukana olevaa yrittäjää tarvittaessa ”kädestä pitäen” tekemään uuden tuotteen sivuille\nLeena Hagmanilta voi tilata myös yrityskohtaisia koulutuksia (toimisto@visitmikkeli.fi).\nHuom. ilmoittaudu tähän MSM ry:n työpajaan erikseen täältä\n\n\n\n\n\n  \n\nTervetuloa mukaan!\nVisit Puumala -päivä  \nPe 24.4. klo 13-16  \nPuumalan yhtenäiskoulun auditorio \nKirkkotie 3B\, 52200 Puumala \nvisit@puumala.fi  \nIlmoittautuminen Visit Puumala -päivään: https://www.lyyti.in/Visit_Puumala_paiva_kevat_2026_5901 \n  \n\n			\n				\n			\n			\n				\n			\n			\n				\n			\n			\n				\n			\n			\n				\n			\n			\n				\n			\n			\n				\n			\n			\n				\n			\n			\n				\n			\n		\n\n 
URL:https://puumala.fi/tapahtumat/visit-puumala-paiva/
CATEGORIES:Top
ATTACH;FMTTYPE=image/jpeg:https://puumala.fi/wp-content/uploads/2026/04/Visit-Puumala-paiva-syksy-489028329_1171211064803782_6950223974308333443_n.jpg
END:VEVENT
BEGIN:VEVENT
DTSTART;TZID=Europe/Helsinki:20260424T144500
DTEND;TZID=Europe/Helsinki:20260424T160000
DTSTAMP:20260421T190312
CREATED:20260416T163759Z
LAST-MODIFIED:20260416T163832Z
UID:22773-1777041900-1777046400@puumala.fi
SUMMARY:DataHub-koulutus
DESCRIPTION:Kevään 2026 Visit Puumala -päivän ohjelmassa mukana pe 24.4.2026\nKlo n. 14:45 Visit Finland DataHub -koulutus yrityksille\nJärjestämme kevään aikana DataHub-koulutuksia Mikkelin seudun matkailu ry:n jäsenyrityksille. Tilaisuuteen ovat tervetulleita myös jäsenyydestä kiinnostuneet. Koulutuksen tavoitteena on auttaa matkailuyrittäjiä tuomaan tuotteitaan ja palveluitaan DataHubiin ja sitä kautta saada näkyvyyttä myös mm. Visit Mikkelin verkkosivuilla. \nKoulutuksen sisältö: \n\n\n\nKoulutuksen avaus – toimitusjohtaja Teemu Laasanen kertoo lyhyesti MSM ry:n toiminnasta\nDataHubin käyttöesittely – Leena Hagman\nTyöpaja\, jossa autamme jokaista mukana olevaa yrittäjää tarvittaessa ”kädestä pitäen” tekemään uuden tuotteen sivuille\nLeena Hagmanilta voi tilata myös yrityskohtaisia koulutuksia (toimisto@visitmikkeli.fi).\nHuom. ilmoittaudu tähän MSM ry:n työpajaan erikseen täältä
URL:https://puumala.fi/tapahtumat/datahub-koulutus/
CATEGORIES:Top
ATTACH;FMTTYPE=image/jpeg:https://puumala.fi/wp-content/uploads/2026/04/datahub_koulutukset_some.jpg
END:VEVENT
BEGIN:VEVENT
DTSTART;VALUE=DATE:20260426
DTEND;VALUE=DATE:20270421
DTSTAMP:20260421T190312
CREATED:20240930T082240Z
LAST-MODIFIED:20260420T150735Z
UID:16780-1777161600-1808265599@puumala.fi
SUMMARY:Kino Saimaa
DESCRIPTION:Tervetuloa viihtymään Puumalan omaan elokuvateatteriin!\nKino Saimaan ajankohtaiseen ohjelmistoon pääset kotisivuilta (valitse Puumala) tai Facebookissa. \nEsitykset järjestetään Puumalan yhtenäiskoulun auditoriossa\, Kirkkotie 3 B.\nLipunmyynti aulassa avautuu ennen näytöksen alkua. \nSalissa on 132 numeroimatonta paikkaa. \nKino Saimaan näytöksiin on mahdollista varata lippuja. Lipunvaraus löytyy kotisivuilta. Paikat eivät ole numeroituja\, mutta varauksen voi kuitenkin tehdä normaalisti ja näin varmistaa mahtuvansa näytökseen. Varatut liput pidetään näytöksen alkuun saakka ja ne lunastetaan nimellä. \nhttps://leffabuumi.fi/elokuvat/naytosajat \n \nTue paikallista ja nauti leffoista!\nPuumalan Kino Saimaan elokuvalahjakortit ovat ihana lahjaidea kulttuurin ystäville ympäri vuoden. Lahjakortit käyvät Puumalan Kino Saimaassa sekä Mikkelin Kinolinnassa ja Ritzissä. Katso lisätietoja tai osta kätevästi osoitteessa: www.leffabuumi.fi/verkkokauppa. Myynnissä myös elokuvateatterin kassalla ennen näytöksiä.
URL:https://puumala.fi/tapahtumat/kino-saimaa/
CATEGORIES:Top
ATTACH;FMTTYPE=image/jpeg:https://puumala.fi/wp-content/uploads/2024/09/Kino-Saimaa-elokuva-popcorn-2021-11-11-18_03_00-1.jpg
END:VEVENT
END:VCALENDAR